BEGIN:VCALENDAR
VERSION:2.0
PRODID:-//hacksw/handcal//NONSGML v1.0//EN
BEGIN:VEVENT
SUMMARY:[ASPTT Orleans Voile] Regate IND Solitaires - Ligue (5A)
UID:3efccf08-eee8-40de-be54-e074fdd19b27
DTSTART:20260606T220000Z
DTEND:20260607T220000Z
LOCATION:Localisation Ile Charlemagne Levee de la Chevauchee 45 ST JEAN LE BLANC
CATEGORIES:Sportif
STATUS:
URL;VALUE=URI:https://cvltp.sportsregions.fr/evenements/2026/06/07/asptt-orleans-voile-regate-ind-solitaires-ligue-5a-2399719
END:VEVENT
END:VCALENDAR
